BEGIN:VCALENDAR
VERSION:2.0
PRODID:-//Universal Shraddha Foundation - ECPv5.16.1.1//NONSGML v1.0//EN
CALSCALE:GREGORIAN
METHOD:PUBLISH
X-WR-CALNAME:Universal Shraddha Foundation
X-ORIGINAL-URL:https://www.usfglobal.org
X-WR-CALDESC:Events for Universal Shraddha Foundation
REFRESH-INTERVAL;VALUE=DURATION:PT1H
X-Robots-Tag:noindex
X-PUBLISHED-TTL:PT1H
BEGIN:VTIMEZONE
TZID:America/Chicago
BEGIN:DAYLIGHT
TZOFFSETFROM:-0600
TZOFFSETTO:-0500
TZNAME:CDT
DTSTART:20240310T080000
END:DAYLIGHT
BEGIN:STANDARD
TZOFFSETFROM:-0500
TZOFFSETTO:-0600
TZNAME:CST
DTSTART:20241103T070000
END:STANDARD
END:VTIMEZONE
BEGIN:VEVENT
DTSTART;TZID=America/Chicago:20241109T150000
DTEND;TZID=America/Chicago:20241109T210000
DTSTAMP:20260424T194641
CREATED:20241017T213448Z
LAST-MODIFIED:20241017T213538Z
UID:2239-1731164400-1731186000@www.usfglobal.org
SUMMARY:Sarat Utsav 2024
DESCRIPTION:
URL:https://www.usfglobal.org/event/sarat-utsav-2024/
LOCATION:1622 Staffordshire Rd\, Stafford\, TX 77477\, 1622 Staffordshire Rd\, Stafford\, 77477
CATEGORIES:Cultural
ATTACH;FMTTYPE=image/png:https://www.usfglobal.org/wp-content/uploads/2024/10/jht_SU_2024@3x.png
END:VEVENT
END:VCALENDAR